BEGIN:VCALENDAR
VERSION:2.0
PRODID:GIGPRESS 2.0 WORDPRESS PLUGIN
CALSCALE:GREGORIAN
X-WR-TIMEZONE:Etc/GMT
METHOD:PUBLISH
BEGIN:VTIMEZONE
TZID:GMT
BEGIN:STANDARD
DTSTART:20071028T010000
TZOFFSETTO:+0000
TZOFFSETFROM:+0000
END:STANDARD
END:VTIMEZONE
BEGIN:VEVENT
SUMMARY:Phil Miller & The Mills-Tones \, Freilichtbühne Tannenkamp Hann. Münden
DESCRIPTION:Kosten: 0€. All Ages
LOCATION:Freilichtbühne Tannenkamp Hann. Münden\, https://maps.app.goo.gl/GgtQKg12QrmF6Vh16\, Hann. Münden\, DE
UID:20260801T170000Z-43-steffenstrauss@gmx.de
URL:https://mills-tones.de
DTSTART;VALUE=DATE-TIME;TZID=GMT:20260801T170000Z
DTEND;VALUE=DATE-TIME;TZID=GMT:20260801T170000Z
DTSTAMP:20260420T083817Z
END:VEVENT
END:VCALENDAR