BEGIN:VCALENDAR
VERSION:2.0
PRODID:GIGPRESS 2.0 WORDPRESS PLUGIN
CALSCALE:GREGORIAN
X-WR-TIMEZONE:Etc/GMT
METHOD:PUBLISH
BEGIN:VTIMEZONE
TZID:GMT
BEGIN:STANDARD
DTSTART:20071028T010000
TZOFFSETTO:+0000
TZOFFSETFROM:+0000
END:STANDARD
END:VTIMEZONE
BEGIN:VEVENT
SUMMARY:Phil Miller & The Mills-Tones \, Zehntscheune Freden
DESCRIPTION:Kosten: Eintritt frei. Anmerkungen: Um Spende wird gebeten All Ages
LOCATION:Zehntscheune Freden\, Bergstraße 11\, Freden\, DE
UID:20260606T170000Z-36-steffenstrauss@gmx.de
URL:https://mills-tones.de
DTSTART;VALUE=DATE-TIME;TZID=GMT:20260606T170000Z
DTEND;VALUE=DATE-TIME;TZID=GMT:20260606T170000Z
DTSTAMP:20260422T083505Z
END:VEVENT
END:VCALENDAR